BEGIN:VCALENDAR
VERSION:2.0
PRODID:-//IDRH - Interessengemeinschaft der Deutschen aus Hessen - ECPv6.15.11//NONSGML v1.0//EN
CALSCALE:GREGORIAN
METHOD:PUBLISH
X-ORIGINAL-URL:https://idrh-hessen.de
X-WR-CALDESC:Veranstaltungen für IDRH - Interessengemeinschaft der Deutschen aus Hessen
REFRESH-INTERVAL;VALUE=DURATION:PT1H
X-Robots-Tag:noindex
X-PUBLISHED-TTL:PT1H
BEGIN:VTIMEZONE
TZID:Europe/Berlin
BEGIN:DAYLIGHT
TZOFFSETFROM:+0100
TZOFFSETTO:+0200
TZNAME:CEST
DTSTART:20240331T010000
END:DAYLIGHT
BEGIN:STANDARD
TZOFFSETFROM:+0200
TZOFFSETTO:+0100
TZNAME:CET
DTSTART:20241027T010000
END:STANDARD
BEGIN:DAYLIGHT
TZOFFSETFROM:+0100
TZOFFSETTO:+0200
TZNAME:CEST
DTSTART:20250330T010000
END:DAYLIGHT
BEGIN:STANDARD
TZOFFSETFROM:+0200
TZOFFSETTO:+0100
TZNAME:CET
DTSTART:20251026T010000
END:STANDARD
BEGIN:DAYLIGHT
TZOFFSETFROM:+0100
TZOFFSETTO:+0200
TZNAME:CEST
DTSTART:20260329T010000
END:DAYLIGHT
BEGIN:STANDARD
TZOFFSETFROM:+0200
TZOFFSETTO:+0100
TZNAME:CET
DTSTART:20261025T010000
END:STANDARD
END:VTIMEZONE
BEGIN:VEVENT
DTSTART;VALUE=DATE:20250725
DTEND;VALUE=DATE:20250726
DTSTAMP:20260419T161511
CREATED:20250709T102333Z
LAST-MODIFIED:20250818T080907Z
UID:8416-1753401600-1753487999@idrh-hessen.de
SUMMARY:Bildungsreise nach München
DESCRIPTION:München zählt zu den wichtigsten deutschen Städten mit Bezug zur Geschichte der Deutschen aus dem östlichen Europa. Mit seiner vielfältigen Museumslandschaft\, renommierten Forschungseinrichtungen und seiner Rolle als Brücke zwischen Ost und West bietet München einen idealen Rahmen\, um sich intensiv mit der Geschichte der Russlanddeutschen auseinanderzusetzen. \nFür weitere Informationen zur Veranstaltung klicken Sie hier. \n\n\nMit der Teilnahme erklären Sie sich einverstanden\, dass die Interessengemeinschaft der Deutschen aus Russland in Hessen gGmbH Foto- und Filmaufnahmen im Zusammenhang mit der Veranstaltung zeitlich unbegrenzt für die Presse- und Öffentlichkeitsarbeit nutzen darf sowie zu Dokumentationszwecken für den Zuwendungsgeber. \n\nGefördert durch das Hessische Ministerium des Innern\, für Sicherheit und Heimatschutz
URL:https://idrh-hessen.de/termin/8416/
LOCATION:München
CATEGORIES:Soziales - Familie - Senioren
ATTACH;FMTTYPE=image/jpeg:https://idrh-hessen.de/wp-content/uploads/2025/07/Sharepic-Bildungsreise-Muenchen-Kalender.jpg
END:VEVENT
END:VCALENDAR