BEGIN:VCALENDAR
VERSION:2.0
PRODID:-//IDRH - Interessengemeinschaft der Deutschen aus Hessen - ECPv6.15.11//NONSGML v1.0//EN
CALSCALE:GREGORIAN
METHOD:PUBLISH
X-ORIGINAL-URL:https://idrh-hessen.de
X-WR-CALDESC:Veranstaltungen für IDRH - Interessengemeinschaft der Deutschen aus Hessen
REFRESH-INTERVAL;VALUE=DURATION:PT1H
X-Robots-Tag:noindex
X-PUBLISHED-TTL:PT1H
BEGIN:VTIMEZONE
TZID:Europe/Berlin
BEGIN:DAYLIGHT
TZOFFSETFROM:+0100
TZOFFSETTO:+0200
TZNAME:CEST
DTSTART:20240331T010000
END:DAYLIGHT
BEGIN:STANDARD
TZOFFSETFROM:+0200
TZOFFSETTO:+0100
TZNAME:CET
DTSTART:20241027T010000
END:STANDARD
BEGIN:DAYLIGHT
TZOFFSETFROM:+0100
TZOFFSETTO:+0200
TZNAME:CEST
DTSTART:20250330T010000
END:DAYLIGHT
BEGIN:STANDARD
TZOFFSETFROM:+0200
TZOFFSETTO:+0100
TZNAME:CET
DTSTART:20251026T010000
END:STANDARD
BEGIN:DAYLIGHT
TZOFFSETFROM:+0100
TZOFFSETTO:+0200
TZNAME:CEST
DTSTART:20260329T010000
END:DAYLIGHT
BEGIN:STANDARD
TZOFFSETFROM:+0200
TZOFFSETTO:+0100
TZNAME:CET
DTSTART:20261025T010000
END:STANDARD
END:VTIMEZONE
BEGIN:VEVENT
DTSTART;TZID=Europe/Berlin:20250924T190000
DTEND;TZID=Europe/Berlin:20250924T210000
DTSTAMP:20260425T043719
CREATED:20250902T125307Z
LAST-MODIFIED:20250902T125816Z
UID:8538-1758740400-1758747600@idrh-hessen.de
SUMMARY:Lesereihe mit Ira Peter
DESCRIPTION:In ihrem Buch „Deutsch genug? Warum wir endlich über Russlanddeutsche sprechen müssen“ räumt die Autorin Ira Peter mit gängigen Vorurteilen auf\, etwa der Vorstellung\, Russlanddeutsche seien durchweg russlandtreu oder integrationsfern. Mit der Lesereihe möchten die Hessische Landeszentrale für politische Bildung (HLZ) und der Hessische Landesbeauftragte für Heimatvertriebene und Spätaussiedler\, Andreas Hofmeister\, MdL einen Raum für Perspektiven und Austausch schaffen. \nFür weitere Informationen zur Veranstaltung klicken Sie hier. \n\n\nMit der Teilnahme erklären Sie sich einverstanden\, dass die Interessengemeinschaft der Deutschen aus Russland in Hessen gGmbH Foto- und Filmaufnahmen im Zusammenhang mit der Veranstaltung zeitlich unbegrenzt für die Presse- und Öffentlichkeitsarbeit nutzen darf sowie zu Dokumentationszwecken für den Zuwendungsgeber.
URL:https://idrh-hessen.de/termin/lesereihe-mit-ira-peter/
LOCATION:Hessische Landeszentrale für politische Bildung\, Mainzer Straße 98–102\, 65189 Wiesbaden
CATEGORIES:Medien - Presse - ÖA
ATTACH;FMTTYPE=image/jpeg:https://idrh-hessen.de/wp-content/uploads/2025/09/Webkalender-10092025.jpg
END:VEVENT
BEGIN:VEVENT
DTSTART;TZID=Europe/Berlin:20250925T180000
DTEND;TZID=Europe/Berlin:20250925T200000
DTSTAMP:20260425T043719
CREATED:20250902T125411Z
LAST-MODIFIED:20250902T125827Z
UID:8542-1758823200-1758830400@idrh-hessen.de
SUMMARY:Lesereihe mit Ira Peter
DESCRIPTION:In ihrem Buch „Deutsch genug? Warum wir endlich über Russlanddeutsche sprechen müssen“ räumt die Autorin Ira Peter mit gängigen Vorurteilen auf\, etwa der Vorstellung\, Russlanddeutsche seien durchweg russlandtreu oder integrationsfern. Mit der Lesereihe möchten die Hessische Landeszentrale für politische Bildung (HLZ) und der Hessische Landesbeauftragte für Heimatvertriebene und Spätaussiedler\, Andreas Hofmeister\, MdL einen Raum für Perspektiven und Austausch schaffen. \nFür weitere Informationen zur Veranstaltung klicken Sie hier. \n\n\nMit der Teilnahme erklären Sie sich einverstanden\, dass die Interessengemeinschaft der Deutschen aus Russland in Hessen gGmbH Foto- und Filmaufnahmen im Zusammenhang mit der Veranstaltung zeitlich unbegrenzt für die Presse- und Öffentlichkeitsarbeit nutzen darf sowie zu Dokumentationszwecken für den Zuwendungsgeber.
URL:https://idrh-hessen.de/termin/lesereihe-mit-ira-peter-2/
LOCATION:Lern- und Erinnerungsort Notaufnahmelager Gießen\, Meisenbornweg 27\, 35398 Gießen
CATEGORIES:Medien - Presse - ÖA
ATTACH;FMTTYPE=image/jpeg:https://idrh-hessen.de/wp-content/uploads/2025/09/Webkalender-10092025.jpg
END:VEVENT
BEGIN:VEVENT
DTSTART;TZID=Europe/Berlin:20250926T190000
DTEND;TZID=Europe/Berlin:20250926T210000
DTSTAMP:20260425T043719
CREATED:20250902T125458Z
LAST-MODIFIED:20250902T125835Z
UID:8545-1758913200-1758920400@idrh-hessen.de
SUMMARY:Lesereihe mit Ira Peter
DESCRIPTION:In ihrem Buch „Deutsch genug? Warum wir endlich über Russlanddeutsche sprechen müssen“ räumt die Autorin Ira Peter mit gängigen Vorurteilen auf\, etwa der Vorstellung\, Russlanddeutsche seien durchweg russlandtreu oder integrationsfern. Mit der Lesereihe möchten die Hessische Landeszentrale für politische Bildung (HLZ) und der Hessische Landesbeauftragte für Heimatvertriebene und Spätaussiedler\, Andreas Hofmeister\, MdL einen Raum für Perspektiven und Austausch schaffen. \nFür weitere Informationen zur Veranstaltung klicken Sie hier. \n\n\nMit der Teilnahme erklären Sie sich einverstanden\, dass die Interessengemeinschaft der Deutschen aus Russland in Hessen gGmbH Foto- und Filmaufnahmen im Zusammenhang mit der Veranstaltung zeitlich unbegrenzt für die Presse- und Öffentlichkeitsarbeit nutzen darf sowie zu Dokumentationszwecken für den Zuwendungsgeber.
URL:https://idrh-hessen.de/termin/lesereihe-mit-ira-peter-3/
LOCATION:Regierungspräsidium Kassel\, Walter-Lübcke-Saal\, Am Alten Stadtschloss 1\, 34117 Kassel
CATEGORIES:Medien - Presse - ÖA
ATTACH;FMTTYPE=image/jpeg:https://idrh-hessen.de/wp-content/uploads/2025/09/Webkalender-10092025.jpg
END:VEVENT
END:VCALENDAR