BEGIN:VCALENDAR
VERSION:2.0
PRODID:-//IDRH - Interessengemeinschaft der Deutschen aus Hessen - ECPv6.15.11//NONSGML v1.0//EN
CALSCALE:GREGORIAN
METHOD:PUBLISH
X-WR-CALNAME:IDRH - Interessengemeinschaft der Deutschen aus Hessen
X-ORIGINAL-URL:https://idrh-hessen.de
X-WR-CALDESC:Veranstaltungen für IDRH - Interessengemeinschaft der Deutschen aus Hessen
REFRESH-INTERVAL;VALUE=DURATION:PT1H
X-Robots-Tag:noindex
X-PUBLISHED-TTL:PT1H
BEGIN:VTIMEZONE
TZID:Europe/Berlin
BEGIN:DAYLIGHT
TZOFFSETFROM:+0100
TZOFFSETTO:+0200
TZNAME:CEST
DTSTART:20240331T010000
END:DAYLIGHT
BEGIN:STANDARD
TZOFFSETFROM:+0200
TZOFFSETTO:+0100
TZNAME:CET
DTSTART:20241027T010000
END:STANDARD
BEGIN:DAYLIGHT
TZOFFSETFROM:+0100
TZOFFSETTO:+0200
TZNAME:CEST
DTSTART:20250330T010000
END:DAYLIGHT
BEGIN:STANDARD
TZOFFSETFROM:+0200
TZOFFSETTO:+0100
TZNAME:CET
DTSTART:20251026T010000
END:STANDARD
BEGIN:DAYLIGHT
TZOFFSETFROM:+0100
TZOFFSETTO:+0200
TZNAME:CEST
DTSTART:20260329T010000
END:DAYLIGHT
BEGIN:STANDARD
TZOFFSETFROM:+0200
TZOFFSETTO:+0100
TZNAME:CET
DTSTART:20261025T010000
END:STANDARD
END:VTIMEZONE
BEGIN:VEVENT
DTSTART;TZID=Europe/Berlin:20251124T190000
DTEND;TZID=Europe/Berlin:20251124T190000
DTSTAMP:20260425T013700
CREATED:20251008T101522Z
LAST-MODIFIED:20251015T091905Z
UID:8818-1764010800-1764010800@idrh-hessen.de
SUMMARY:Zusatztermin: Lesereihe mit Ira Peter
DESCRIPTION:In ihrem Buch „Deutsch genug? Warum wir endlich über Russlanddeutsche sprechen müssen“ räumt die Autorin Ira Peter mit gängigen Vorurteilen auf\, etwa der Vorstellung\, Russlanddeutsche seien durchweg russlandtreu oder integrationsfern. Mit der Lesereihe möchten die Hessische Landeszentrale für politische Bildung (HLZ) und der Hessische Landesbeauftragte für Heimatvertriebene und Spätaussiedler\, Andreas Hofmeister\, MdL einen Raum für Perspektiven und Austausch schaffen. \nFür weitere Informationen zur Veranstaltung klicken Sie hier. \n\n\nMit der Teilnahme erklären Sie sich einverstanden\, dass die Interessengemeinschaft der Deutschen aus Russland in Hessen gGmbH Foto- und Filmaufnahmen im Zusammenhang mit der Veranstaltung zeitlich unbegrenzt für die Presse- und Öffentlichkeitsarbeit nutzen darf sowie zu Dokumentationszwecken für den Zuwendungsgeber.
URL:https://idrh-hessen.de/termin/zusatztermin-lesereihe-mit-ira-peter/
LOCATION:Europa Akademie Schlüchtern e.V.\, Lotichiusstraße 38\, 36381 Schlüchtern
CATEGORIES:Medien - Presse - ÖA
ATTACH;FMTTYPE=image/jpeg:https://idrh-hessen.de/wp-content/uploads/2025/10/Sharepic-IG-27062025-Kopie-3.jpg
END:VEVENT
END:VCALENDAR