BEGIN:VCALENDAR
VERSION:2.0
PRODID:-//IDRH - Interessengemeinschaft der Deutschen aus Hessen - ECPv6.15.11//NONSGML v1.0//EN
CALSCALE:GREGORIAN
METHOD:PUBLISH
X-WR-CALNAME:IDRH - Interessengemeinschaft der Deutschen aus Hessen
X-ORIGINAL-URL:https://idrh-hessen.de
X-WR-CALDESC:Veranstaltungen für IDRH - Interessengemeinschaft der Deutschen aus Hessen
REFRESH-INTERVAL;VALUE=DURATION:PT1H
X-Robots-Tag:noindex
X-PUBLISHED-TTL:PT1H
BEGIN:VTIMEZONE
TZID:Europe/Berlin
BEGIN:DAYLIGHT
TZOFFSETFROM:+0100
TZOFFSETTO:+0200
TZNAME:CEST
DTSTART:20220327T010000
END:DAYLIGHT
BEGIN:STANDARD
TZOFFSETFROM:+0200
TZOFFSETTO:+0100
TZNAME:CET
DTSTART:20221030T010000
END:STANDARD
BEGIN:DAYLIGHT
TZOFFSETFROM:+0100
TZOFFSETTO:+0200
TZNAME:CEST
DTSTART:20230326T010000
END:DAYLIGHT
BEGIN:STANDARD
TZOFFSETFROM:+0200
TZOFFSETTO:+0100
TZNAME:CET
DTSTART:20231029T010000
END:STANDARD
BEGIN:DAYLIGHT
TZOFFSETFROM:+0100
TZOFFSETTO:+0200
TZNAME:CEST
DTSTART:20240331T010000
END:DAYLIGHT
BEGIN:STANDARD
TZOFFSETFROM:+0200
TZOFFSETTO:+0100
TZNAME:CET
DTSTART:20241027T010000
END:STANDARD
END:VTIMEZONE
BEGIN:VEVENT
DTSTART;TZID=Europe/Berlin:20231125T113000
DTEND;TZID=Europe/Berlin:20231125T183000
DTSTAMP:20260419T231919
CREATED:20231030T081007Z
LAST-MODIFIED:20231030T081027Z
UID:6147-1700911800-1700937000@idrh-hessen.de
SUMMARY:(un)Sichtbar erfolgreich 2023
DESCRIPTION:Am 25. November findet in Wiesbaden die zweite Auflage des IDRH-Frauenforums statt. Diesmal stehen Themen wie Selbstständigkeit\, Freiberuflichkeit\, finanzielle Bildung und kreatives Management im Vordergrund. \nFür weitere Informationen zur Veranstaltung klicken Sie hier. \n\n\nMit der Teilnahme erklären Sie sich einverstanden\, dass die Interessengemeinschaft der Deutschen aus Russland in Hessen gGmbH Foto- und Filmaufnahmen im Zusammenhang mit der Veranstaltung zeitlich unbegrenzt für die Presse- und Öffentlichkeitsarbeit nutzen darf sowie zu Dokumentationszwecken für den Zuwendungsgeber. \n\nGefördert durch das Hessische Ministerium des Innern und für Sport.
URL:https://idrh-hessen.de/termin/6147/
LOCATION:IntercityHotel\, Klingholzstr. 6\, 65189 Wiesbaden
CATEGORIES:Jugend - Bildung - Kultur
ATTACH;FMTTYPE=image/png:https://idrh-hessen.de/wp-content/uploads/2023/10/Sharepic-Frauenforum-2023.png
END:VEVENT
END:VCALENDAR