BEGIN:VCALENDAR
VERSION:2.0
PRODID:-//IDRH - Interessengemeinschaft der Deutschen aus Hessen - ECPv6.15.11//NONSGML v1.0//EN
CALSCALE:GREGORIAN
METHOD:PUBLISH
X-WR-CALNAME:IDRH - Interessengemeinschaft der Deutschen aus Hessen
X-ORIGINAL-URL:https://idrh-hessen.de
X-WR-CALDESC:Veranstaltungen für IDRH - Interessengemeinschaft der Deutschen aus Hessen
REFRESH-INTERVAL;VALUE=DURATION:PT1H
X-Robots-Tag:noindex
X-PUBLISHED-TTL:PT1H
BEGIN:VTIMEZONE
TZID:Europe/Berlin
BEGIN:DAYLIGHT
TZOFFSETFROM:+0100
TZOFFSETTO:+0200
TZNAME:CEST
DTSTART:20230326T010000
END:DAYLIGHT
BEGIN:STANDARD
TZOFFSETFROM:+0200
TZOFFSETTO:+0100
TZNAME:CET
DTSTART:20231029T010000
END:STANDARD
BEGIN:DAYLIGHT
TZOFFSETFROM:+0100
TZOFFSETTO:+0200
TZNAME:CEST
DTSTART:20240331T010000
END:DAYLIGHT
BEGIN:STANDARD
TZOFFSETFROM:+0200
TZOFFSETTO:+0100
TZNAME:CET
DTSTART:20241027T010000
END:STANDARD
BEGIN:DAYLIGHT
TZOFFSETFROM:+0100
TZOFFSETTO:+0200
TZNAME:CEST
DTSTART:20250330T010000
END:DAYLIGHT
BEGIN:STANDARD
TZOFFSETFROM:+0200
TZOFFSETTO:+0100
TZNAME:CET
DTSTART:20251026T010000
END:STANDARD
END:VTIMEZONE
BEGIN:VEVENT
DTSTART;TZID=Europe/Berlin:20240308T153000
DTEND;TZID=Europe/Berlin:20240308T200000
DTSTAMP:20260419T173416
CREATED:20240220T151721Z
LAST-MODIFIED:20240220T151747Z
UID:6615-1709911800-1709928000@idrh-hessen.de
SUMMARY:(un)Sichtbare Frauenschicksale und schweres Gepäck
DESCRIPTION:Im Rahmen des diesjährigen Frauenforums setzen sich Spätaussiedlerinnen und Frauen mit Vertriebenenhintergrund mit ihrer eigenen Familiengeschichte sowie der Bewältigung des transgenerationalen Traumas auseinander.  \nFür weitere Informationen zur Veranstaltung klicken Sie hier. \n\n\nMit der Teilnahme erklären Sie sich einverstanden\, dass die Interessengemeinschaft der Deutschen aus Russland in Hessen gGmbH Foto- und Filmaufnahmen im Zusammenhang mit der Veranstaltung zeitlich unbegrenzt für die Presse- und Öffentlichkeitsarbeit nutzen darf sowie zu Dokumentationszwecken für den Zuwendungsgeber. \n\nEine Veranstaltung der IDRH gGmbH und KuBIK e.V. in Kooperation mit der Landesfrauenreferentin und Frauengruppe BdV-Hessen e.V. sowie dem Kulturausschuss der Landsmannschaft der Deutschen aus Russland e.V. Gefördert durch die Friedlandhilfe e.V.\, die Stiftung Baden-Württemberg im Rahmen des Projekts „Auf den Wogen der Jahrhunderte“ sowie das Hessische Ministerium des Innern\, für Sicherheit und Heimatschutz.
URL:https://idrh-hessen.de/termin/unsichtbare-frauenschicksale-und-schweres-gepaeck/
LOCATION:Haus der Heimat\, Friedrichstraße 35\, 65185 Wiesbaden
CATEGORIES:Jugend - Bildung - Kultur
ATTACH;FMTTYPE=image/png:https://idrh-hessen.de/wp-content/uploads/2024/02/Sharepic-Frauenforum-2024.png
END:VEVENT
END:VCALENDAR